BEGIN:VCALENDAR
VERSION:2.0
PRODID:icalendar-ruby
CALSCALE:GREGORIAN
METHOD:PUBLISH
BEGIN:VEVENT
DTSTAMP:20260420T095031Z
UID:29-252780@faithunitedchurches.com
DTSTART:20260426T210000Z
DTEND:20260426T220000Z
CLASS:PUBLIC
CREATED:20260326T134256
DESCRIPTION:
LAST-MODIFIED:20260326T134256
LOCATION:Emmanuel UMC
SUMMARY:Potluck Fellowship
URL;VALUE=URI:https://www.faithunitedchurches.com/events/potluck-fellowship
 /2026-04-26
ATTACH;FILENAME=Potluck.jpg;FMTTYPE=image/jpeg:https://dq5pwpg1q8ru0.cloudf
 ront.net/2026/03/26/17/42/56/e43a1324-d4bd-426c-999a-e8a507a76102/Potluck.
 jpg
END:VEVENT
END:VCALENDAR
